BEGIN:VCALENDAR
VERSION:2.0
PRODID:-//Dijana Covic - ECPv5.16.3.1//NONSGML v1.0//EN
CALSCALE:GREGORIAN
METHOD:PUBLISH
X-WR-CALNAME:Dijana Covic
X-ORIGINAL-URL:https://dijanacovic.com
X-WR-CALDESC:Events for Dijana Covic
REFRESH-INTERVAL;VALUE=DURATION:PT1H
X-Robots-Tag:noindex
X-PUBLISHED-TTL:PT1H
BEGIN:VTIMEZONE
TZID:America/Los_Angeles
BEGIN:DAYLIGHT
TZOFFSETFROM:-0800
TZOFFSETTO:-0700
TZNAME:PDT
DTSTART:20220313T100000
END:DAYLIGHT
BEGIN:STANDARD
TZOFFSETFROM:-0700
TZOFFSETTO:-0800
TZNAME:PST
DTSTART:20221106T090000
END:STANDARD
BEGIN:DAYLIGHT
TZOFFSETFROM:-0800
TZOFFSETTO:-0700
TZNAME:PDT
DTSTART:20230312T100000
END:DAYLIGHT
BEGIN:STANDARD
TZOFFSETFROM:-0700
TZOFFSETTO:-0800
TZNAME:PST
DTSTART:20231105T090000
END:STANDARD
END:VTIMEZONE
BEGIN:VEVENT
DTSTART;TZID=America/Los_Angeles:20221003T113000
DTEND;TZID=America/Los_Angeles:20231103T133000
DTSTAMP:20260422T112011
CREATED:20221004T132410Z
LAST-MODIFIED:20221004T132625Z
UID:7962-1664796600-1699018200@dijanacovic.com
SUMMARY:Flowers For All
DESCRIPTION:My artwork Dreamy roses is included  in Singulart collection Flowers for All.\nThe sun is shining and we are all excited to take the time to stop and smell the roses. Flowers can be a symbol of love\, friendship\, and more. What better way to enjoy these beautiful tokens than to have them for a lifetime on a canvas? \nSINGULART wants to keep the flowers blooming all year long\, so we’ve curated a collection of works that will brighten up your space.
URL:https://dijanacovic.com/event/flowers-for-all/
CATEGORIES:Exhibition
END:VEVENT
END:VCALENDAR